BEGIN:VCALENDAR
VERSION:2.0
PRODID:-ABConcerts-events
METHOD:PUBLISH
BEGIN:VEVENT
TRANSP:OPAQUE
DTSTART:20160510T200000
DTEND:20160510T223000
SUMMARY:Witxes
LOCATION:AB Salon - zittend (Steenstraat 11\, 1000 Brussel)
DESCRIPTION:Paysages sonores atmosphériques aux confins du drone
URL;VALUE=URI:https://www.abconcerts.be/fr/agenda/witxes/a105J000001wdVXQAY
UID:ABConcerts_event_d5a36dd2-59a0-11eb-b203-5254eb761bff
SEQUENCE:0
DTSTAMP:20260423T211605Z
END:VEVENT
END:VCALENDAR
