BEGIN:VCALENDAR
VERSION:2.0
PRODID:-ABConcerts-events
METHOD:PUBLISH
BEGIN:VEVENT
TRANSP:OPAQUE
DTSTART:20240330T190000
DTEND:20240330T223000
SUMMARY:Willem Ardui
LOCATION:AB Club - staand (Anspachlaan 110\, 1000 Brussel)
DESCRIPTION:Sortie du premier album
URL;VALUE=URI:https://www.abconcerts.be/fr/agenda/willem-ardui/a105J0000091MFfQAM
UID:ABConcerts_event_1ee71c8a-e27e-6e7a-871c-a122f152c603
SEQUENCE:0
DTSTAMP:20260422T105816Z
END:VEVENT
END:VCALENDAR
