BEGIN:VCALENDAR
VERSION:2.0
PRODID:-ABConcerts-events
METHOD:PUBLISH
BEGIN:VEVENT
TRANSP:OPAQUE
DTSTART:20160304T203000
DTEND:20160304T223000
SUMMARY:Will Hoge: Passport Tour
LOCATION:AB Salon - zittend (Steenstraat 11\, 1000 Brussel)
DESCRIPTION:Du rock americana en provenance de Nashville
URL;VALUE=URI:https://www.abconcerts.be/fr/agenda/will-hoge-passport-tour/a105J000001wdY0QAI
UID:ABConcerts_event_c7be25fe-59a0-11eb-9000-5254eb761bff
SEQUENCE:0
DTSTAMP:20260424T063041Z
END:VEVENT
END:VCALENDAR
