BEGIN:VCALENDAR
VERSION:2.0
PRODID:-ABConcerts-events
METHOD:PUBLISH
BEGIN:VEVENT
TRANSP:OPAQUE
DTSTART:20080301T200000
DTEND:20080301T223000
SUMMARY:Waxdolls
LOCATION:AB Grote zaal (Anspachlaan 110\, 1000 Brussel)
DESCRIPTION:
URL;VALUE=URI:https://www.abconcerts.be/fr/agenda/waxdolls/a105J000001wgOJQAY
UID:ABConcerts_event_1e26096c-59a0-11eb-816e-5254eb761bff
SEQUENCE:0
DTSTAMP:20260420T170756Z
END:VEVENT
END:VCALENDAR
