BEGIN:VCALENDAR
VERSION:2.0
PRODID:-ABConcerts-events
METHOD:PUBLISH
BEGIN:VEVENT
TRANSP:OPAQUE
DTSTART:20261112T190000
DTEND:20261112T223000
SUMMARY:Wallace Cleaver
LOCATION:AB Grote zaal (Anspachlaan 110\, 1000 Brussel)
DESCRIPTION:Marcel Tour
URL;VALUE=URI:https://www.abconcerts.be/fr/agenda/wallace-cleaver/a10Qw00000FjOC1IAN
UID:ABConcerts_event_1f138de9-31f9-61f2-8c91-e53ec584549f
SEQUENCE:0
DTSTAMP:20260420T170930Z
END:VEVENT
END:VCALENDAR
