BEGIN:VCALENDAR
VERSION:2.0
PRODID:-ABConcerts-events
METHOD:PUBLISH
BEGIN:VEVENT
TRANSP:OPAQUE
DTSTART:20170420T200000
DTEND:20170420T223000
SUMMARY:Waar Is Ken?
LOCATION:AB Club - staand (Anspachlaan 110\, 1000 Brussel)
DESCRIPTION:
URL;VALUE=URI:https://www.abconcerts.be/fr/agenda/waar-is-ken/a105J000001wdQNQAY
UID:ABConcerts_event_a1fafa36-59a0-11eb-a7ca-5254eb761bff
SEQUENCE:0
DTSTAMP:20260422T041249Z
END:VEVENT
END:VCALENDAR
