BEGIN:VCALENDAR
VERSION:2.0
PRODID:-ABConcerts-events
METHOD:PUBLISH
BEGIN:VEVENT
TRANSP:OPAQUE
DTSTART:20161213T203000
DTEND:20161213T223000
SUMMARY:Viva For Life: Hooverphonic
LOCATION:AB Grote zaal (Anspachlaan 110\, 1000 Brussel)
DESCRIPTION:Concert Best Of au profit de Viva For Life
URL;VALUE=URI:https://www.abconcerts.be/fr/agenda/viva-for-life-hooverphonic/a105J000001wdRwQAI
UID:ABConcerts_event_d88dd386-599e-11eb-9430-5254eb761bff
SEQUENCE:0
DTSTAMP:20260421T031808Z
END:VEVENT
END:VCALENDAR
