BEGIN:VCALENDAR
VERSION:2.0
PRODID:-ABConcerts-events
METHOD:PUBLISH
BEGIN:VEVENT
TRANSP:OPAQUE
DTSTART:20250207T190000
DTEND:20250207T223000
SUMMARY:TUKAN
LOCATION:AB Ballroom (Anspachlaan 110\, 1000 Brussel)
DESCRIPTION:Brussels-based indie electronic quartet celebrates release\nof second album.
URL;VALUE=URI:https://www.abconcerts.be/fr/agenda/tukan/a10Qw000001671RIAQ
UID:ABConcerts_event_1ef7f387-b000-6b08-9b8c-636adf46b94f
SEQUENCE:0
DTSTAMP:20260422T034238Z
END:VEVENT
END:VCALENDAR
