BEGIN:VCALENDAR
VERSION:2.0
PRODID:-ABConcerts-events
METHOD:PUBLISH
BEGIN:VEVENT
TRANSP:OPAQUE
DTSTART:20240303T190000
DTEND:20240303T223000
SUMMARY:Tricky
LOCATION:AB Grote zaal (Anspachlaan 110\, 1000 Brussel)
DESCRIPTION:Présente son album 'Maxinquaye Reincarnated'
URL;VALUE=URI:https://www.abconcerts.be/fr/agenda/tricky/a10Qw0000009zInIAI
UID:ABConcerts_event_1ee7e47e-98a2-697a-b57f-afcd55feb12d
SEQUENCE:0
DTSTAMP:20260424T022719Z
END:VEVENT
END:VCALENDAR
