BEGIN:VCALENDAR
VERSION:2.0
PRODID:-ABConcerts-events
METHOD:PUBLISH
BEGIN:VEVENT
TRANSP:OPAQUE
DTSTART:20161128T200000
DTEND:20161128T223000
SUMMARY:Tom Misch
LOCATION:AB Club - staand (Anspachlaan 110\, 1000 Brussel)
DESCRIPTION:Beats & sweet sounds: relaxed\, sexy\, jazzy lounge!
URL;VALUE=URI:https://www.abconcerts.be/fr/agenda/tom-misch/a105J000001wdUZQAY
UID:ABConcerts_event_bc95ec3e-59a0-11eb-bfad-5254eb761bff
SEQUENCE:0
DTSTAMP:20260423T105029Z
END:VEVENT
END:VCALENDAR
