BEGIN:VCALENDAR
VERSION:2.0
PRODID:-ABConcerts-events
METHOD:PUBLISH
BEGIN:VEVENT
TRANSP:OPAQUE
DTSTART:20150417T200000
DTEND:20150417T223000
SUMMARY:Tom Brosseau
LOCATION:AB Salon - zittend (Steenstraat 11\, 1000 Brussel)
DESCRIPTION:Du folk roots américain dans la tradition de Guthrie\,\nLeadbelly\,…
URL;VALUE=URI:https://www.abconcerts.be/fr/agenda/tom-brosseau/a105J000001wdjYQAQ
UID:ABConcerts_event_80121512-59a0-11eb-a8d2-5254eb761bff
SEQUENCE:0
DTSTAMP:20260423T181903Z
END:VEVENT
END:VCALENDAR
