BEGIN:VCALENDAR
VERSION:2.0
PRODID:-ABConcerts-events
METHOD:PUBLISH
BEGIN:VEVENT
TRANSP:OPAQUE
DTSTART:20140412T200000
DTEND:20140412T223000
SUMMARY:Tinie Tempah + Billie Kawende
LOCATION:AB Box (Anspachlaan 110\, 1000 Brussel)
DESCRIPTION:Le sol de l'AB va trembler au son de Tinie Tempah
URL;VALUE=URI:https://www.abconcerts.be/fr/agenda/tinie-tempah-billie-kawende/a105J000001we54QAA
UID:ABConcerts_event_95dfd3e8-59a0-11eb-a067-5254eb761bff
SEQUENCE:0
DTSTAMP:20260422T200311Z
END:VEVENT
END:VCALENDAR
