BEGIN:VCALENDAR
VERSION:2.0
PRODID:-ABConcerts-events
METHOD:PUBLISH
BEGIN:VEVENT
TRANSP:OPAQUE
DTSTART:20191029T200000
DTEND:20191029T223000
SUMMARY:Theon Cross
LOCATION:AB Club - staand (Anspachlaan 110\, 1000 Brussel)
DESCRIPTION:‘Extraordinary tuba sounds from Sons Of Kemet member.’\n(The Guardian)
URL;VALUE=URI:https://www.abconcerts.be/fr/agenda/theon-cross/a105J000001wd73QAA
UID:ABConcerts_event_4a4b91fc-599f-11eb-b934-5254eb761bff
SEQUENCE:0
DTSTAMP:20260419T191418Z
END:VEVENT
END:VCALENDAR
