BEGIN:VCALENDAR
VERSION:2.0
PRODID:-ABConcerts-events
METHOD:PUBLISH
BEGIN:VEVENT
TRANSP:OPAQUE
DTSTART:20130519T170000
DTEND:20130519T223000
SUMMARY:The Wire Primer: John Cage by Louise Gray
LOCATION:AB Salon - zittend (Steenstraat 11\, 1000 Brussel)
DESCRIPTION:The Primer est l&#39;une des rubriques du remarquable\nmagazine britannique The Wire pour laquelle un journaliste\,\nun musicien ou un écrivain se prête à l&#39;analyse de\ndisques majeurs d&#39;un artiste\, d&#39;un genre ou\nd&#39;un courant anticonformiste. En collaboration avec The\nWire\, nous avons eu envie d&#39;offrir un prolongement à\ncette série en invitant les différents rédacteurs dans\nnotre Huis23.À l&#39;occasion du concert de Nils Frahm et\nde Lubomyr Melnik organisé dans le cadre du cycle Silence\nIs Sexy\, Louise Gray viendra nous présenter une nouvelle\nédition de The Wire Primer dans notre Huis23. Cet exposé\nsur John Cage\, considéré comme l&#39;un des maîtres du\nsilence\, est on ne peut plus indiqué pour introduire le\nconcert de ces deux compositeurs contemporains.    S&#39;il\nest difficile de mesurer l&#39;influence de John Cage (1912\n– 1992) sur la musique moderne\, il est généralement\nconsidéré comme l&#39;un des plus grands réformateurs de\nla musique classique du 20e siècle. Avec des compositions\ncomme First Construction in Metal\, Sonates and Interludes\nfor Prepared Piano et bien évidemment 4’33”\, Cage a\nradicalement modifié la conception musicale et notre notion\nde la musique.Dans son Primer (publié dans The Wire # 161\nde juillet 1997)\, Louise Gray dresse un bel aperçu de la\nvie et de la carrière de cet inventeur et compositeur\npassionnant (comme l&#39;appelait Arnold Schönberg\, son\nprofesseur dans les années 30). Louise Gray est une\njournaliste free-lance spécialisée en musique et en arts\nvisuels. Elle a écrit pour différents journaux et\nmagazines britanniques (NME\, The Guardian\, New\nStatesman\,…). Elle a été critique musicale pour The\nTimes et correspondante culturelle pour The Independent On\nSunday. Elle écrit\, en ce moment\, pour The Wire\, New\nInternationals et le Museum Journal. Elle est aussi\nprogrammatrice pour le festival annuel Latitudes.    Pour\nassister à cette conférence unique\, inscrivez-vous sans\ntarder via reservationshuis23@abconcerts.be. Les places sont\nlimitées.         Avec le soutien de
URL;VALUE=URI:https://www.abconcerts.be/fr/agenda/the-wire-primer-john-cage-by-louise-gray/a105J000001wgqLQAQ
UID:ABConcerts_event_6c3fab40-599f-11eb-92b7-5254eb761bff
SEQUENCE:0
DTSTAMP:20260419T163921Z
END:VEVENT
END:VCALENDAR
