BEGIN:VCALENDAR
VERSION:2.0
PRODID:-ABConcerts-events
METHOD:PUBLISH
BEGIN:VEVENT
TRANSP:OPAQUE
DTSTART:20150508T200000
DTEND:20150508T223000
SUMMARY:The Van Jets
LOCATION:AB Grote zaal (Anspachlaan 110\, 1000 Brussel)
DESCRIPTION:Le grand retour sur scène + rocking new cd!
URL;VALUE=URI:https://www.abconcerts.be/fr/agenda/the-van-jets/a105J000001wdk9QAA
UID:ABConcerts_event_8d14b26a-59a0-11eb-8a4e-5254eb761bff
SEQUENCE:0
DTSTAMP:20260423T194750Z
END:VEVENT
END:VCALENDAR
