BEGIN:VCALENDAR
VERSION:2.0
PRODID:-ABConcerts-events
METHOD:PUBLISH
BEGIN:VEVENT
TRANSP:OPAQUE
DTSTART:20180417T200000
DTEND:20180417T223000
SUMMARY:The Sheepdogs
LOCATION:AB Club - staand (Anspachlaan 110\, 1000 Brussel)
DESCRIPTION:Dig it: beef-and-boogie guitar-driven retro rock
URL;VALUE=URI:https://www.abconcerts.be/fr/agenda/the-sheepdogs/a105J000001wdHDQAY
UID:ABConcerts_event_7593e6b0-59a0-11eb-8197-5254eb761bff
SEQUENCE:0
DTSTAMP:20260419T204358Z
END:VEVENT
END:VCALENDAR
