BEGIN:VCALENDAR
VERSION:2.0
PRODID:-ABConcerts-events
METHOD:PUBLISH
BEGIN:VEVENT
TRANSP:OPAQUE
DTSTART:20140621T200000
DTEND:20140621T223000
SUMMARY:The Scene
LOCATION:AB Grote zaal (Anspachlaan 110\, 1000 Brussel)
DESCRIPTION:Avertissement : contrôle de l&#39;interdiction de\nfumer Depuis le 1er janvier 2006\, il est interdit de fumer\ndans les lieux publics. La règle vaut donc également pour\nl&#39;AB. En concertation avec l&#39;AB et le SPF Santé\npublique\, Sécurité de la Chaîne alimentaire et\nEnvironnement\, le service de Santé publique entreprendra\,\npendant le concert\, divers contrôles à l&#39;AB.         \n
URL;VALUE=URI:https://www.abconcerts.be/fr/agenda/the-scene/a105J000001wgu3QAA
UID:ABConcerts_event_3ffdd2c2-59a0-11eb-9948-5254eb761bff
SEQUENCE:0
DTSTAMP:20260423T045707Z
END:VEVENT
END:VCALENDAR
