BEGIN:VCALENDAR
VERSION:2.0
PRODID:-ABConcerts-events
METHOD:PUBLISH
BEGIN:VEVENT
TRANSP:OPAQUE
DTSTART:20140322T170000
DTEND:20140322T193000
SUMMARY:The Rise And Fall Of Paramount Records: Luistersessie + Gesp
rek met Alex Van Der Tuuk
LOCATION:AB Salon - zittend (Steenstraat 11\, 1000 Brussel)
DESCRIPTION:Jack White. Petites et grandes histoires de la musique.
URL;VALUE=URI:https://www.abconcerts.be/fr/agenda/the-rise-and-fall-of-paramount-records-luistersessie-gesprek-met-alex-van-der-tuuk/a105J000001wgtUQAQ
UID:ABConcerts_event_9fc40a24-599f-11eb-9b71-5254eb761bff
SEQUENCE:0
DTSTAMP:20260422T172924Z
END:VEVENT
END:VCALENDAR
