BEGIN:VCALENDAR
VERSION:2.0
PRODID:-ABConcerts-events
METHOD:PUBLISH
BEGIN:VEVENT
TRANSP:OPAQUE
DTSTART:20270116T200000
DTEND:20270116T223000
SUMMARY:The Music Of Hans Zimmer & Others
LOCATION:AB Grote zaal (Anspachlaan 110\, 1000 Brussel)
DESCRIPTION:Annulé
URL;VALUE=URI:https://www.abconcerts.be/fr/agenda/the-music-of-hans-zimmer-others/a10Qw00000Fj0mPIAR
UID:ABConcerts_event_1f0d033b-bf05-6b0c-aa74-b926566416b2
SEQUENCE:0
DTSTAMP:20260423T192406Z
END:VEVENT
END:VCALENDAR
