BEGIN:VCALENDAR
VERSION:2.0
PRODID:-ABConcerts-events
METHOD:PUBLISH
BEGIN:VEVENT
TRANSP:OPAQUE
DTSTART:20130911T200000
DTEND:20130911T223000
SUMMARY:The-Dream + Billie Kawende
LOCATION:AB Club - staand (Anspachlaan 110\, 1000 Brussel)
DESCRIPTION:The-Dream : IV Play et smooth & sexy R&B sounds
URL;VALUE=URI:https://www.abconcerts.be/fr/agenda/the-dream-billie-kawende/a105J000001wgs2QAA
UID:ABConcerts_event_2047ebd4-59a0-11eb-a657-5254eb761bff
SEQUENCE:0
DTSTAMP:20260419T224149Z
END:VEVENT
END:VCALENDAR
