BEGIN:VCALENDAR
VERSION:2.0
PRODID:-ABConcerts-events
METHOD:PUBLISH
BEGIN:VEVENT
TRANSP:OPAQUE
DTSTART:20170621T190000
DTEND:20170621T213000
SUMMARY:The Dillinger Escape Plan
LOCATION:AB Ballroom (Anspachlaan 110\, 1000 Brussel)
DESCRIPTION:La formation explosive lève le poing une dernière fois
URL;VALUE=URI:https://www.abconcerts.be/fr/agenda/the-dillinger-escape-plan/a105J000001wdSmQAI
UID:ABConcerts_event_9ee7ab96-59a0-11eb-acbd-5254eb761bff
SEQUENCE:0
DTSTAMP:20260422T201737Z
END:VEVENT
END:VCALENDAR
