BEGIN:VCALENDAR
VERSION:2.0
PRODID:-ABConcerts-events
METHOD:PUBLISH
BEGIN:VEVENT
TRANSP:OPAQUE
DTSTART:20130621T200000
DTEND:20130621T223000
SUMMARY:The Black Crowes
LOCATION:AB Grote zaal (Anspachlaan 110\, 1000 Brussel)
DESCRIPTION:The Most Rock n' Roll Rock n' Roll Band In The World
URL;VALUE=URI:https://www.abconcerts.be/fr/agenda/the-black-crowes/a105J000001wgqQQAQ
UID:ABConcerts_event_6e56cf76-599f-11eb-a9b5-5254eb761bff
SEQUENCE:0
DTSTAMP:20260419T204521Z
END:VEVENT
END:VCALENDAR
