BEGIN:VCALENDAR
VERSION:2.0
PRODID:-ABConcerts-events
METHOD:PUBLISH
BEGIN:VEVENT
TRANSP:OPAQUE
DTSTART:20150516T150000
DTEND:20150516T223000
SUMMARY:Still figurentheater
LOCATION:AB Salon - zittend (Steenstraat 11\, 1000 Brussel)
DESCRIPTION:Inventive paper theatre presents an ode to the power of\nimagination
URL;VALUE=URI:https://www.abconcerts.be/fr/agenda/still-figurentheater/a105J000001wdcXQAQ
UID:ABConcerts_event_4f59b2f0-599f-11eb-9ce9-5254eb761bff
SEQUENCE:0
DTSTAMP:20260423T194920Z
END:VEVENT
END:VCALENDAR
