BEGIN:VCALENDAR
VERSION:2.0
PRODID:-ABConcerts-events
METHOD:PUBLISH
BEGIN:VEVENT
TRANSP:OPAQUE
DTSTART:20170419T200000
DTEND:20170419T223000
SUMMARY:Silken Tofu label night: All Shadows And Deliverance + Bruit
al Orgasme
LOCATION:AB Salon - zittend (Steenstraat 11\, 1000 Brussel)
DESCRIPTION:Soirée autour du label expérimental bruxellois Silken Tofu
URL;VALUE=URI:https://www.abconcerts.be/fr/agenda/silken-tofu-label-night-all-shadows-and-deliverance-bruital-orgasme/a105J000001wdP7QAI
UID:ABConcerts_event_8e9f2340-59a0-11eb-9374-5254eb761bff
SEQUENCE:0
DTSTAMP:20260422T233030Z
END:VEVENT
END:VCALENDAR
