BEGIN:VCALENDAR
VERSION:2.0
PRODID:-ABConcerts-events
METHOD:PUBLISH
BEGIN:VEVENT
TRANSP:OPAQUE
DTSTART:20180110T200000
DTEND:20180110T223000
SUMMARY:Screening: Ziggy Stardust And The Spiders From Mars
LOCATION:AB Salon - zittend (Steenstraat 11\, 1000 Brussel)
DESCRIPTION:L’AB célèbre Bowie avec ce film-concert légendaire de\n1973
URL;VALUE=URI:https://www.abconcerts.be/fr/agenda/screening-ziggy-stardust-and-the-spiders-from-mars/a105J000001wdK8QAI
UID:ABConcerts_event_681f679e-599f-11eb-a4fd-5254eb761bff
SEQUENCE:0
DTSTAMP:20260420T053742Z
END:VEVENT
END:VCALENDAR
