BEGIN:VCALENDAR
VERSION:2.0
PRODID:-ABConcerts-events
METHOD:PUBLISH
BEGIN:VEVENT
TRANSP:OPAQUE
DTSTART:20151112T200000
DTEND:20151112T204500
SUMMARY:Screening: Merchants of Doubt
LOCATION:AB Salon - zittend (Steenstraat 11\, 1000 Brussel)
DESCRIPTION:Documentaire choquant des créateurs de Food Inc.
URL;VALUE=URI:https://www.abconcerts.be/fr/agenda/screening-merchants-of-doubt/a105J000001wdYQQAY
UID:ABConcerts_event_d3d25022-59a0-11eb-a147-5254eb761bff
SEQUENCE:0
DTSTAMP:20260424T052333Z
END:VEVENT
END:VCALENDAR
