BEGIN:VCALENDAR
VERSION:2.0
PRODID:-ABConcerts-events
METHOD:PUBLISH
BEGIN:VEVENT
TRANSP:OPAQUE
DTSTART:20131109T200000
DTEND:20131109T223000
SUMMARY:Saule + Noa Moon
LOCATION:AB Grote zaal (Anspachlaan 110\, 1000 Brussel)
DESCRIPTION:Special guest Charlie Winston.    C’était il y a 7 ans\,\nun géant de près de 2 mètres posait son bagage dans nos\ncontrées. Avec lui\, il amenait une voix haut perchée\, un\nregard d’enfant\, des gaucheries assumées\, et tout un\nmonde de tendresse\, de poésie et d’humour. Le géant\ns’appelait Baptiste Lalieu et\, un peu pour se cacher\, un\npeu parce que ça lui plaisait\, il s’était créé un\npersonnage\, un alter ego\, par lui baptisé Saule. Baptiste\ns’attaque il y a un an à la réalisation d’un\ntroisième album. Il écrit près de soixante chansons et\nles passa au crible de son intransigeance. Arrive alors la\nrencontre\, cruciale\, avec Charlie Winston. Et dès le\ndébut\, entre les deux\, une complicité fraternelle.\nCharlie l’Anglais et son univers de pop chamarrée\, et\nBaptiste le Belge fou de Burton et d’écriture française.\nIls passent le mois d’août enfermés dans un studio de\nl’ouest parisien et la magie opère. Les chansons de\nBaptiste\, arrangées et produites par Charlie\, prennent\nvie. Et quelle vie !Au fur et à mesure de la\ncollaboration\, Baptiste ira jusqu’à écrire pour son\nCharlie et lui-même un duo\, Dusty Men\, soit l’histoire\nde 2 has been de la chanson\, qui semblent s’apostropher\nde chaque côté de la Manche\, tentant de remporter un duel\npathétique autour de leur gloriole défunte. L’ironie de\nla chanson\, la force de ses arrangements\, et le groove\nimparable qui la mènent nous donneront raison : ce titre\nest un tube.L’écriture de Saule\, depuis toujours fine et\ntrès élaborée\, connaît avec ce troisième album une\nnouvelle progression. Dans les thèmes abordés\, mais aussi\ndans l’ambivalence des propos \, les trouvailles fusent\,\npour le plus grand bonheur de l’auditeur.         En\nsoutien à la campagne 2013 du CNCD-11.11.11\, un pack au\nprofit de l&#39;association est mis en vente au prix de 45\neuros incluant : entrée au concert\, rencontre avec Saule\,\nun album et une affiche dédicacé Infos et réservations:\nwww.cncd.be/saule
URL;VALUE=URI:https://www.abconcerts.be/fr/agenda/saule-noa-moon/a105J000001weDXQAY
UID:ABConcerts_event_b4ccc086-59a0-11eb-ae25-5254eb761bff
SEQUENCE:0
DTSTAMP:20260420T035938Z
END:VEVENT
END:VCALENDAR
