BEGIN:VCALENDAR
VERSION:2.0
PRODID:-ABConcerts-events
METHOD:PUBLISH
BEGIN:VEVENT
TRANSP:OPAQUE
DTSTART:20250317T190000
DTEND:20250317T221500
SUMMARY:RY X
LOCATION:AB Grote zaal (Anspachlaan 110\, 1000 Brussel)
DESCRIPTION:Troubadour électro australien aux chansons fragiles
URL;VALUE=URI:https://www.abconcerts.be/fr/agenda/ry-x/a105J0000071HIjQAM
UID:ABConcerts_event_1ef1f6a5-4fc4-64c2-95f9-1f9767f0668b
SEQUENCE:0
DTSTAMP:20260420T053305Z
END:VEVENT
END:VCALENDAR
