BEGIN:VCALENDAR
VERSION:2.0
PRODID:-ABConcerts-events
METHOD:PUBLISH
BEGIN:VEVENT
TRANSP:OPAQUE
DTSTART:20140405T200000
DTEND:20140405T223000
SUMMARY:Rodriguez + Bird
LOCATION:AB Grote zaal (Anspachlaan 110\, 1000 Brussel)
DESCRIPTION:Searching For Sugar Man? Here he is!
URL;VALUE=URI:https://www.abconcerts.be/fr/agenda/rodriguez-bird/a105J000001weE6QAI
UID:ABConcerts_event_c1d8a81c-59a0-11eb-ade4-5254eb761bff
SEQUENCE:0
DTSTAMP:20260422T195446Z
END:VEVENT
END:VCALENDAR
