BEGIN:VCALENDAR
VERSION:2.0
PRODID:-ABConcerts-events
METHOD:PUBLISH
BEGIN:VEVENT
TRANSP:OPAQUE
DTSTART:20140403T200000
DTEND:20140403T223000
SUMMARY:Rodriguez + Bird
LOCATION:AB Grote zaal (Anspachlaan 110\, 1000 Brussel)
DESCRIPTION:Searching For Sugar Man? Here he is!
URL;VALUE=URI:https://www.abconcerts.be/fr/agenda/rodriguez-bird/a105J000001we51QAA
UID:ABConcerts_event_95b8cb2c-59a0-11eb-876e-5254eb761bff
SEQUENCE:0
DTSTAMP:20260422T182521Z
END:VEVENT
END:VCALENDAR
