BEGIN:VCALENDAR
VERSION:2.0
PRODID:-ABConcerts-events
METHOD:PUBLISH
BEGIN:VEVENT
TRANSP:OPAQUE
DTSTART:20140505T200000
DTEND:20140505T223000
SUMMARY:Raising Holy Sparks + Innercity
LOCATION:AB Salon - zittend (Steenstraat 11\, 1000 Brussel)
DESCRIPTION:Drones profonds\, électro bizarroïde et minimalisme\npsyché
URL;VALUE=URI:https://www.abconcerts.be/fr/agenda/raising-holy-sparks-innercity/a105J000001wgtsQAA
UID:ABConcerts_event_3d0e4542-59a0-11eb-a87d-5254eb761bff
SEQUENCE:0
DTSTAMP:20260423T003002Z
END:VEVENT
END:VCALENDAR
