BEGIN:VCALENDAR
VERSION:2.0
PRODID:-ABConcerts-events
METHOD:PUBLISH
BEGIN:VEVENT
TRANSP:OPAQUE
DTSTART:20160422T200000
DTEND:20160422T223000
SUMMARY:Radical Face
LOCATION:AB Club - staand (Anspachlaan 110\, 1000 Brussel)
DESCRIPTION:Auteur-compositeur-interprète intense\, cf. Sufjan ou The\nShins ?
URL;VALUE=URI:https://www.abconcerts.be/fr/agenda/radical-face/a105J000001wdWKQAY
UID:ABConcerts_event_e921c76e-59a0-11eb-b1c7-5254eb761bff
SEQUENCE:0
DTSTAMP:20260424T001002Z
END:VEVENT
END:VCALENDAR
