BEGIN:VCALENDAR
VERSION:2.0
PRODID:-ABConcerts-events
METHOD:PUBLISH
BEGIN:VEVENT
TRANSP:OPAQUE
DTSTART:20130512T200000
DTEND:20130512T223000
SUMMARY:Puggy + Cargo Culte
LOCATION:AB Grote zaal (Anspachlaan 110\, 1000 Brussel)
DESCRIPTION:Pour des raisons de santé (une extinction de voix du\nchanteur lors du concert de ce 18/04)\, Puggy se voit dans\nl’obligation de déplacer son concerts de 18 avril à\nl’Ancienne Belgique! Le concert est reporté au dimanche\n12 mai à l’Ancienne Belgique !              Les tickets\nachetés pour le 18.04.13 restent valables pour la nouvelle\ndate et ne doivent pas être échangés.         Si la\nnouvelle date ne convient pas\, les tickets seront\nremboursés.    Si vous avez reçu la confirmation des\ne-tickets par courriel\, veuillez renvoyer ce courriel à\ninfo@abconcerts.be avec mention de votre numéro de compte\nen banque avant le 30 avril.    Si vous avez des tickets\,\nveuillez les renvoyer avant le 30 avril avec mention de\nvotre numéro de compte en banque à AB Ticketshop\, 110\nBoulevard Anspach\, 1000 Bruxelles ou passez à une des\ncaisses de l&#39;AB.                   Avec un nouvel album\nattendu pour janvier 2013 et un premier extrait prévu pour\nles jours à venir\, les Bruxellois de Puggy sont enfin de\nretour ! A cette occasion\, ils vous invitent à venir\ndécouvrir leurs nouveaux morceaux sur scène ! Il reste\nmoins de cent places à vendre pour leur concert du 23\nfévrier. Par conséquent\, Puggy annonce d’ores et déjà\n2 dates supplémentaires à l’Ancienne Belgique de\nBruxelles les mercredi 17 et jeudi 18 avril\, et ce pour\nnotre plus grand plaisir à tous.
URL;VALUE=URI:https://www.abconcerts.be/fr/agenda/puggy-cargo-culte/a105J000001wdvBQAQ
UID:ABConcerts_event_df5366fc-59a0-11eb-9548-5254eb761bff
SEQUENCE:0
DTSTAMP:20260419T150612Z
END:VEVENT
END:VCALENDAR
