BEGIN:VCALENDAR
VERSION:2.0
PRODID:-ABConcerts-events
METHOD:PUBLISH
BEGIN:VEVENT
TRANSP:OPAQUE
DTSTART:20250504T190000
DTEND:20250504T223000
SUMMARY:Pommelien Thijs
LOCATION:AB Grote zaal (Anspachlaan 110\, 1000 Brussel)
DESCRIPTION:
URL;VALUE=URI:https://www.abconcerts.be/fr/agenda/pommelien-thijs/a10Qw00000196IXIAY
UID:ABConcerts_event_1ef13891-901e-6d88-a7da-cd9ce262e9da
SEQUENCE:0
DTSTAMP:20260422T182527Z
END:VEVENT
END:VCALENDAR
