BEGIN:VCALENDAR
VERSION:2.0
PRODID:-ABConcerts-events
METHOD:PUBLISH
BEGIN:VEVENT
TRANSP:OPAQUE
DTSTART:20140129T200000
DTEND:20140129T223000
SUMMARY:Poliça + Marijuana Deathsquads
LOCATION:AB Grote zaal (Anspachlaan 110\, 1000 Brussel)
DESCRIPTION:Poliça avec un deuxième album pour son deuxième show à\nl'AB.
URL;VALUE=URI:https://www.abconcerts.be/fr/agenda/polica-marijuana-deathsquads/a105J000001we4fQAA
UID:ABConcerts_event_91395ada-59a0-11eb-bc99-5254eb761bff
SEQUENCE:0
DTSTAMP:20260422T122802Z
END:VEVENT
END:VCALENDAR
