BEGIN:VCALENDAR
VERSION:2.0
PRODID:-ABConcerts-events
METHOD:PUBLISH
BEGIN:VEVENT
TRANSP:OPAQUE
DTSTART:20131114T200000
DTEND:20131114T223000
SUMMARY:Pokey LaFarge + Luke Winslow-King
LOCATION:AB Box (Anspachlaan 110\, 1000 Brussel)
DESCRIPTION:Un mélange de cooking swing\, de country\, folk\, blues et\njazz
URL;VALUE=URI:https://www.abconcerts.be/fr/agenda/pokey-lafarge-luke-winslow-king/a105J000001wgrYQAQ
UID:ABConcerts_event_159feab0-59a0-11eb-8f94-5254eb761bff
SEQUENCE:0
DTSTAMP:20260420T053942Z
END:VEVENT
END:VCALENDAR
