BEGIN:VCALENDAR
VERSION:2.0
PRODID:-ABConcerts-events
METHOD:PUBLISH
BEGIN:VEVENT
TRANSP:OPAQUE
DTSTART:20170216T200000
DTEND:20170216T223000
SUMMARY:Pelt + Nathan Bowles
LOCATION:AB Salon - zittend (Steenstraat 11\, 1000 Brussel)
DESCRIPTION:KRAAK & AB present: Une soirée autour du trio américain de\nmusique folk
URL;VALUE=URI:https://www.abconcerts.be/fr/agenda/pelt-nathan-bowles/a105J000001wdQ6QAI
UID:ABConcerts_event_b7e0c4f2-59a0-11eb-915f-5254eb761bff
SEQUENCE:0
DTSTAMP:20260423T175537Z
END:VEVENT
END:VCALENDAR
