BEGIN:VCALENDAR
VERSION:2.0
PRODID:-ABConcerts-events
METHOD:PUBLISH
BEGIN:VEVENT
TRANSP:OPAQUE
DTSTART:20140609T200000
DTEND:20140609T223000
SUMMARY:Paul Weller + The Gramotones
LOCATION:AB Grote zaal (Anspachlaan 110\, 1000 Brussel)
DESCRIPTION:Rock you\, modfather!
URL;VALUE=URI:https://www.abconcerts.be/fr/agenda/paul-weller-the-gramotones/a105J000001wgtOQAQ
UID:ABConcerts_event_9c441dc6-599f-11eb-9639-5254eb761bff
SEQUENCE:0
DTSTAMP:20260423T034223Z
END:VEVENT
END:VCALENDAR
