BEGIN:VCALENDAR
VERSION:2.0
PRODID:-ABConcerts-events
METHOD:PUBLISH
BEGIN:VEVENT
TRANSP:OPAQUE
DTSTART:20131116T200000
DTEND:20131116T223000
SUMMARY:Patrice + Nora Abakar
LOCATION:AB Grote zaal (Anspachlaan 110\, 1000 Brussel)
DESCRIPTION:Alive & explosive pop reggae vibes
URL;VALUE=URI:https://www.abconcerts.be/fr/agenda/patrice-nora-abakar/a105J000001we4CQAQ
UID:ABConcerts_event_8ea999e2-59a0-11eb-b6e7-5254eb761bff
SEQUENCE:0
DTSTAMP:20260420T053547Z
END:VEVENT
END:VCALENDAR
