BEGIN:VCALENDAR
VERSION:2.0
PRODID:-ABConcerts-events
METHOD:PUBLISH
BEGIN:VEVENT
TRANSP:OPAQUE
DTSTART:20130523T200000
DTEND:20130523T223000
SUMMARY:Ozark Henry + Tout Va Bien
LOCATION:AB Grote zaal (Anspachlaan 110\, 1000 Brussel)
DESCRIPTION:Stay Gold: new cd\, first shows!
URL;VALUE=URI:https://www.abconcerts.be/fr/agenda/ozark-henry-tout-va-bien/a105J000001wdwOQAQ
UID:ABConcerts_event_97b23c1a-59a0-11eb-82a6-5254eb761bff
SEQUENCE:0
DTSTAMP:20260419T180800Z
END:VEVENT
END:VCALENDAR
