BEGIN:VCALENDAR
VERSION:2.0
PRODID:-ABConcerts-events
METHOD:PUBLISH
BEGIN:VEVENT
TRANSP:OPAQUE
DTSTART:20250503T190000
DTEND:20250503T223000
SUMMARY:Ouidad
LOCATION:AB Club - staand (Anspachlaan 110\, 1000 Brussel)
DESCRIPTION:La chanteuse franco-marocaine débarque pour la première\nfois en Belgique
URL;VALUE=URI:https://www.abconcerts.be/fr/agenda/ouidad/a10Qw0000055XDPIA2
UID:ABConcerts_event_1efe31a2-c489-6336-9850-bb8e53a7977e
SEQUENCE:0
DTSTAMP:20260425T230629Z
END:VEVENT
END:VCALENDAR
