BEGIN:VCALENDAR
VERSION:2.0
PRODID:-ABConcerts-events
METHOD:PUBLISH
BEGIN:VEVENT
TRANSP:OPAQUE
DTSTART:20141106T200000
DTEND:20141106T223000
SUMMARY:Opeth
LOCATION:AB Grote zaal (Anspachlaan 110\, 1000 Brussel)
DESCRIPTION:Un subtil rouleau compresseur fait de prog metal raffiné !
URL;VALUE=URI:https://www.abconcerts.be/fr/agenda/opeth/a105J000001wgvPQAQ
UID:ABConcerts_event_3e873e4c-59a0-11eb-9ee5-5254eb761bff
SEQUENCE:0
DTSTAMP:20260423T073949Z
END:VEVENT
END:VCALENDAR
