BEGIN:VCALENDAR
VERSION:2.0
PRODID:-ABConcerts-events
METHOD:PUBLISH
BEGIN:VEVENT
TRANSP:OPAQUE
DTSTART:20190930T200000
DTEND:20190930T223000
SUMMARY:Opening Francis Vanhee's photo exhibition + live music by Sa
chli
LOCATION:AB Club - staand (Anspachlaan 110\, 1000 Brussel)
DESCRIPTION:An evening with pictures\, drinks and music curated by our\nin-house photografer
URL;VALUE=URI:https://www.abconcerts.be/fr/agenda/opening-francis-vanhees-photo-exhibition-live-music-by-sachli/a105J000001wd6LQAQ
UID:ABConcerts_event_316c90c8-599f-11eb-90b1-5254eb761bff
SEQUENCE:0
DTSTAMP:20260419T174706Z
END:VEVENT
END:VCALENDAR
