BEGIN:VCALENDAR
VERSION:2.0
PRODID:-ABConcerts-events
METHOD:PUBLISH
BEGIN:VEVENT
TRANSP:OPAQUE
DTSTART:20171212T200000
DTEND:20171212T223000
SUMMARY:Oh Wonder
LOCATION:AB Grote zaal (Anspachlaan 110\, 1000 Brussel)
DESCRIPTION:Le duo électro-pop britannique sort un deuxième album !
URL;VALUE=URI:https://www.abconcerts.be/fr/agenda/oh-wonder/a105J000001wdNOQAY
UID:ABConcerts_event_412af7fc-599f-11eb-82c7-5254eb761bff
SEQUENCE:0
DTSTAMP:20260421T193152Z
END:VEVENT
END:VCALENDAR
