BEGIN:VCALENDAR
VERSION:2.0
PRODID:-ABConcerts-events
METHOD:PUBLISH
BEGIN:VEVENT
TRANSP:OPAQUE
DTSTART:20240508T190000
DTEND:20240508T223000
SUMMARY:Ocie Elliott
LOCATION:AB Club - staand (Anspachlaan 110\, 1000 Brussel)
DESCRIPTION:Un duo de folk harmonieux
URL;VALUE=URI:https://www.abconcerts.be/fr/agenda/ocie-elliott/a105J0000071H5zQAE
UID:ABConcerts_event_1ee68ea0-5bd5-616c-98b3-e506decc0712
SEQUENCE:0
DTSTAMP:20260420T003035Z
END:VEVENT
END:VCALENDAR
