BEGIN:VCALENDAR
VERSION:2.0
PRODID:-ABConcerts-events
METHOD:PUBLISH
BEGIN:VEVENT
TRANSP:OPAQUE
DTSTART:20160310T200000
DTEND:20160310T223000
SUMMARY:Oaktree: 'Dust' albumpresentatie
LOCATION:AB Club - staand (Anspachlaan 110\, 1000 Brussel)
DESCRIPTION:Notre ancien Artist in Residence présente son tout nouvel\nEP
URL;VALUE=URI:https://www.abconcerts.be/fr/agenda/oaktree-dust-albumpresentatie/a105J000001wdX6QAI
UID:ABConcerts_event_b3e5b89e-59a0-11eb-900e-5254eb761bff
SEQUENCE:0
DTSTAMP:20260424T052056Z
END:VEVENT
END:VCALENDAR
