BEGIN:VCALENDAR
VERSION:2.0
PRODID:-ABConcerts-events
METHOD:PUBLISH
BEGIN:VEVENT
TRANSP:OPAQUE
DTSTART:20150224T200000
DTEND:20150224T223000
SUMMARY:Nordmann - cd release
LOCATION:AB Club - staand (Anspachlaan 110\, 1000 Brussel)
DESCRIPTION:« Un power jazz prodigieusement maîtrisé » (Humo)
URL;VALUE=URI:https://www.abconcerts.be/fr/agenda/nordmann-cd-release/a105J000001wdknQAA
UID:ABConcerts_event_91c33ba6-59a0-11eb-9a0f-5254eb761bff
SEQUENCE:0
DTSTAMP:20260422T173818Z
END:VEVENT
END:VCALENDAR
