BEGIN:VCALENDAR
VERSION:2.0
PRODID:-ABConcerts-events
METHOD:PUBLISH
BEGIN:VEVENT
TRANSP:OPAQUE
DTSTART:20150322T200000
DTEND:20150322T223000
SUMMARY:Noel Gallagher's High Flying Birds
LOCATION:AB Grote zaal (Anspachlaan 110\, 1000 Brussel)
DESCRIPTION:Noel Gallagher et ses High Flying Birds sont de retour !
URL;VALUE=URI:https://www.abconcerts.be/fr/agenda/noel-gallaghers-high-flying-birds/a105J000001wdt6QAA
UID:ABConcerts_event_9e646ac4-59a0-11eb-a94d-5254eb761bff
SEQUENCE:0
DTSTAMP:20260422T143755Z
END:VEVENT
END:VCALENDAR
