BEGIN:VCALENDAR
VERSION:2.0
PRODID:-ABConcerts-events
METHOD:PUBLISH
BEGIN:VEVENT
TRANSP:OPAQUE
DTSTART:20240420T190000
DTEND:20240420T223000
SUMMARY:Nits
LOCATION:AB Theater (Anspachlaan 110\, 1000 Brussel)
DESCRIPTION:Le groupe le plus audacieux des Pays-Bas souffle ses 50\nbougies
URL;VALUE=URI:https://www.abconcerts.be/fr/agenda/nits/a105J000008G7EVQA0
UID:ABConcerts_event_eb3ae974-e26d-11ed-96dd-5254eb761bff
SEQUENCE:0
DTSTAMP:20260422T225054Z
END:VEVENT
END:VCALENDAR
