BEGIN:VCALENDAR
VERSION:2.0
PRODID:-ABConcerts-events
METHOD:PUBLISH
BEGIN:VEVENT
TRANSP:OPAQUE
DTSTART:20140506T200000
DTEND:20140506T223000
SUMMARY:Nits
LOCATION:AB Club - staand (Anspachlaan 110\, 1000 Brussel)
DESCRIPTION:Happy 40th Birthday au trio nits\, fierté pop des Pays-Bas\n!
URL;VALUE=URI:https://www.abconcerts.be/fr/agenda/nits/a105J000001we3tQAA
UID:ABConcerts_event_8c05ca30-59a0-11eb-a3b2-5254eb761bff
SEQUENCE:0
DTSTAMP:20260423T002054Z
END:VEVENT
END:VCALENDAR
